BEGIN:VCALENDAR
VERSION:2.0
PRODID:-//sebbo.net//ical-generator//EN
BEGIN:VEVENT
UID:6ec469d4-7cf6-4e7b-bd10-417f5180b342
SEQUENCE:0
DTSTAMP:20260423T114902Z
DTSTART:20261007T163000Z
DTEND:20261007T200000Z
SUMMARY:Jassin - Die Größere Arsenalplatz Tour - Leipzig - Felsenkeller
LOCATION:Felsenkeller\, Karl-Heine-Straße 32\, 04229 Leipzig\, Germany
DESCRIPTION:Doors: 18:30 Uhr\, Start: 20:00
END:VEVENT
END:VCALENDAR