BEGIN:VCALENDAR
VERSION:2.0
PRODID:-//sebbo.net//ical-generator//EN
BEGIN:VEVENT
UID:6c739be7-7c0a-4198-96d4-46c433162462
SEQUENCE:0
DTSTAMP:20260423T121330Z
DTSTART:20261016T170000Z
DTEND:20261016T200000Z
SUMMARY:Jassin - Die Größere Arsenalplatz Tour - Wiesbaden - Schlachthof
LOCATION:Schlachthof\, Murnaustrasse 1\, 65189 Wiesbaden\, Germany
DESCRIPTION:Doors: 19:00 Uhr\, Start: 20:00
END:VEVENT
END:VCALENDAR