BEGIN:VCALENDAR
VERSION:2.0
PRODID:-//sebbo.net//ical-generator//EN
BEGIN:VEVENT
UID:c7144b34-b5d5-42d3-ab7b-a3b6dba8ff08
SEQUENCE:0
DTSTAMP:20260420T043331Z
DTSTART:20261015T163000Z
DTEND:20261015T200000Z
SUMMARY:Jassin - Die Größere Arsenalplatz Tour - Nürnberg - Z-Bau – H
 aus für Gegenwartskultur
LOCATION:Z-Bau – Haus für Gegenwartskultur\, Frankenstraße 200\, 90461
  Nürnberg\, Germany
DESCRIPTION:Doors: 18:30 Uhr\, Start: 20:00
END:VEVENT
END:VCALENDAR