BEGIN:VCALENDAR
VERSION:2.0
PRODID:-//sebbo.net//ical-generator//EN
BEGIN:VEVENT
UID:ddf8afd4-264f-431c-ace9-50761632ab60
SEQUENCE:0
DTSTAMP:20260419T130953Z
DTSTART:20251206T180000Z
DTEND:20251206T210000Z
SUMMARY:Jassin - Arsenalplatz Tour 2025 - Bremen - Lagerhaus
LOCATION:Lagerhaus\, Schildstraße 12-19\, 28203 Bremen\, Germany
DESCRIPTION:Doors: 19:00 Uhr\, Start: 20:00
END:VEVENT
END:VCALENDAR