BEGIN:VCALENDAR
VERSION:2.0
PRODID:-//sebbo.net//ical-generator//EN
BEGIN:VEVENT
UID:b0975c1b-4ea9-4ceb-974b-300f23246ca3
SEQUENCE:0
DTSTAMP:20260423T102457Z
DTSTART:20261014T170000Z
DTEND:20261014T200000Z
SUMMARY:Jassin - Die Größere Arsenalplatz Tour - Wien - Arena Wien
LOCATION:Arena Wien\, Baumgasse 80\, 1030 Wien\, Österreich
DESCRIPTION:Einlass: 19:00 Uhr\, Beginn: 20:00
END:VEVENT
END:VCALENDAR