BEGIN:VCALENDAR
VERSION:2.0
PRODID:-//sebbo.net//ical-generator//EN
BEGIN:VEVENT
UID:bddae0f7-6920-4262-8107-2140c10812e1
SEQUENCE:0
DTSTAMP:20260423T102356Z
DTSTART:20261021T163000Z
DTEND:20261021T200000Z
SUMMARY:Jassin - Die Größere Arsenalplatz Tour - Berlin - Columbiahalle
LOCATION:Columbiahalle\, Columbiadamm 13-21\, 10965 Berlin\, Deutschland
DESCRIPTION:Einlass: 18:30 Uhr\, Beginn: 20:00
END:VEVENT
END:VCALENDAR