BEGIN:VCALENDAR
VERSION:2.0
PRODID:-//sebbo.net//ical-generator//EN
BEGIN:VEVENT
UID:098e2e2e-9e5f-4ee4-8bae-4314a0bc064e
SEQUENCE:0
DTSTAMP:20260423T101357Z
DTSTART:20261020T170000Z
DTEND:20261020T200000Z
SUMMARY:Jassin - Die Größere Arsenalplatz Tour - Köln - E-Werk
LOCATION:E-Werk\, Schanzenstraße 37\, 51063 Köln\, Deutschland
DESCRIPTION:Einlass: 19:00 Uhr\, Beginn: 20:00
END:VEVENT
END:VCALENDAR