BEGIN:VCALENDAR
VERSION:2.0
PRODID:-//sebbo.net//ical-generator//EN
BEGIN:VEVENT
UID:2d7523e5-1196-4d9c-9a41-13feacaf443e
SEQUENCE:0
DTSTAMP:20260423T102334Z
DTSTART:20261012T170000Z
DTEND:20261012T200000Z
SUMMARY:Jassin - Die Größere Arsenalplatz Tour - Dortmund - FZW
LOCATION:FZW\, Ritterstraße 20\, 44137 Dortmund\, Deutschland
DESCRIPTION:Einlass: 19:00 Uhr\, Beginn: 20:00
END:VEVENT
END:VCALENDAR