BEGIN:VCALENDAR
VERSION:2.0
PRODID:-//sebbo.net//ical-generator//EN
BEGIN:VEVENT
UID:b6d31c2a-389f-467c-aeb4-70d86c11f4d1
SEQUENCE:0
DTSTAMP:20260420T025915Z
DTSTART:20261004T170000Z
DTEND:20261004T200000Z
SUMMARY:Jassin - Die Größere Arsenalplatz Tour - Stuttgart - Im Wizemann
  (Halle)
LOCATION:Im Wizemann (Halle)\, Quellenstraße 7\, 70376 Stuttgart\, Deutsc
 hland
DESCRIPTION:Einlass: 19:00 Uhr\, Beginn: 20:00
END:VEVENT
END:VCALENDAR