BEGIN:VCALENDAR
VERSION:2.0
PRODID:-//sebbo.net//ical-generator//EN
BEGIN:VEVENT
UID:a6895dce-8017-429e-957b-178015f6cc8f
SEQUENCE:0
DTSTAMP:20260423T102244Z
DTSTART:20261011T170000Z
DTEND:20261011T200000Z
SUMMARY:Jassin - Die Größere Arsenalplatz Tour - Erfurt - Kalif Storch
LOCATION:Kalif Storch\, Zum Güterbahnhof 20\, 99085 Erfurt\, Deutschland
DESCRIPTION:Einlass: 19:00 Uhr\, Beginn: 20:00
END:VEVENT
END:VCALENDAR