BEGIN:VCALENDAR
VERSION:2.0
PRODID:-//sebbo.net//ical-generator//EN
BEGIN:VEVENT
UID:2611bfe0-4347-4bf9-87f9-e9769bf8160b
SEQUENCE:0
DTSTAMP:20260423T102201Z
DTSTART:20261006T170000Z
DTEND:20261006T200000Z
SUMMARY:Jassin - Die Größere Arsenalplatz Tour - München - Muffathalle
LOCATION:Muffathalle\, Zellstrasse 4\, 81667 München\, Deutschland
DESCRIPTION:Einlass: 19:00 Uhr\, Beginn: 20:00
END:VEVENT
END:VCALENDAR