BEGIN:VCALENDAR
VERSION:2.0
PRODID:-//sebbo.net//ical-generator//EN
BEGIN:VEVENT
UID:dbf90235-2cbe-451a-8a6d-09deb17c9155
SEQUENCE:0
DTSTAMP:20260423T085537Z
DTSTART:20251210T173000Z
DTEND:20251210T203000Z
SUMMARY:Jassin - Arsenalplatz Tour 2025 - Stuttgart - Im Wizemann (Club)
LOCATION:Im Wizemann (Club)\, Quellenstraße 7\, 70376 Stuttgart\, Deutsch
 land
DESCRIPTION:Einlass: 18:30 Uhr\, Beginn: 19:30
END:VEVENT
END:VCALENDAR